BEGIN:VCALENDAR
VERSION:2.0
PRODID:-//South Bay Chapter - ECPv4.9.13//NONSGML v1.0//EN
CALSCALE:GREGORIAN
METHOD:PUBLISH
X-WR-CALNAME:South Bay Chapter
X-ORIGINAL-URL:https://southbay.surfrider.org
X-WR-CALDESC:Events for South Bay Chapter
BEGIN:VTIMEZONE
TZID:America/Los_Angeles
BEGIN:DAYLIGHT
TZOFFSETFROM:-0800
TZOFFSETTO:-0700
TZNAME:PDT
DTSTART:20200308T100000
END:DAYLIGHT
BEGIN:STANDARD
TZOFFSETFROM:-0700
TZOFFSETTO:-0800
TZNAME:PST
DTSTART:20201101T090000
END:STANDARD
END:VTIMEZONE
BEGIN:VEVENT
DTSTART;TZID=America/Los_Angeles:20200328T000000
DTEND;TZID=America/Los_Angeles:20200328T000000
DTSTAMP:20210426T125815
CREATED:20200208T165431Z
LAST-MODIFIED:20200314T155758Z
UID:547-1585353600-1585353600@southbay.surfrider.org
SUMMARY:CANCELLED Beach Cleanup @ Redondo
DESCRIPTION:\n\n\nIn light of the recent COVID-19 outbreak and based on the CDC recommendation to cancel large public gatherings\, we are cancelling our March 28th Beach Cleanup. We apologize for any inconvenience. \nFAQs from the World Health Organization’s website. \n  \n\n\n\n
URL:https://southbay.surfrider.org/event/beach-cleanup/
LOCATION:Redondo Beach\, 121 W Torrance Blvd\, Redondo Beach\, CA\, 90277\, United States
CATEGORIES:Beach Cleanup
END:VEVENT
END:VCALENDAR