BEGIN:VCALENDAR
VERSION:2.0
PRODID:-//South Bay Chapter - ECPv4.9.13//NONSGML v1.0//EN
CALSCALE:GREGORIAN
METHOD:PUBLISH
X-WR-CALNAME:South Bay Chapter
X-ORIGINAL-URL:https://southbay.surfrider.org
X-WR-CALDESC:Events for South Bay Chapter
BEGIN:VTIMEZONE
TZID:America/Los_Angeles
BEGIN:DAYLIGHT
TZOFFSETFROM:-0800
TZOFFSETTO:-0700
TZNAME:PDT
DTSTART:20200308T100000
END:DAYLIGHT
BEGIN:STANDARD
TZOFFSETFROM:-0700
TZOFFSETTO:-0800
TZNAME:PST
DTSTART:20201101T090000
END:STANDARD
END:VTIMEZONE
BEGIN:VEVENT
DTSTART;VALUE=DATE:20200905
DTEND;VALUE=DATE:20200906
DTSTAMP:20210427T024213
CREATED:20200815T125244Z
LAST-MODIFIED:20200820T022942Z
UID:676-1599264000-1599350399@southbay.surfrider.org
SUMMARY:CoastalCleanupDay - Solo Beach Cleanup
DESCRIPTION:\n\n\n\nEvery Saturday in September at your favorite local beach!\nLean more about International Coastal Cleanup Awareness Month here \nSurfrider Foundation’s South Bay Chapter is looking for volunteers interested in participating in our solo beach cleanup project. Since use of our South Bay beaches for this purpose is allowed\, individuals and household units can help clean their beaches — and we have an easy way for you to help track this data for the best impact! \nPlease help us log what is showing up on our beaches by filling out our Digital Data Card. It is important that we are able to quantify the trash\, especially after this pause in cleanups due to COVID-19!\n\nPlease stay safe and mindful while following CDC public health guidance\, local beach access restrictions\, and EPA recommendations for properly discarding used PPE items. For a list of required guidelines\, please visit Solo Beach Cleanup Guidelines.  \n\n“Participation in a solo cleanup event is voluntary and solely at a participant’s own risk\, including risk associated with COVID-19 (SARS-CoV-2). Individuals should only participate to the extent that they can comply with applicable federal\, state\, and local rules and restrictions\, and the below required practices including physical distancing.”\n\n\n\n
URL:https://southbay.surfrider.org/event/coastalcleanupday-solo-beach-cleanup/
CATEGORIES:Beach Cleanup
END:VEVENT
END:VCALENDAR